BEGIN:VCALENDAR
VERSION:2.0
PRODID:-//hacksw/handcal//NONSGML v1.0//EN
BEGIN:VEVENT
UID:b452ecbff9f2933c7da4eabb8d5ee189
DTSTAMP:20260423T134652Z

DTSTART:20260626T090000
DTEND:20260627T170000
SUMMARY:International Conference for Science and Practice on Global Perspectives on Multilingualism in (Mental) Healthcare
DESCRIPTION:The International Conference for Science and Practice on Global Perspectives on Multilingualism in (Mental) Healthcarewill take place on June 26–27, 2026, at the University Medical Center Hamburg-Eppendorf in Hamburg, Germany. 🌍🗣️\nThe conference addresses the challenges patients face when language barriers hinder access to care and treatment quality, highlighting the gaps in standardized interpreting services and multilingual policies in healthcare systems worldwide. 🏥💬\nBringing together researchers, clinicians, artists, and experts, the event explores innovative strategies to overcome language barriers through lectures, seven workshops, a best-practice pitch session, and a panel discussion. Participants will discuss the advantages and limitations of current approaches and develop sustainable solutions to strengthen global health equity. 🌐🤝\nThis multidisciplinary gathering aims to connect research, clinical experience, and stakeholder expertise, fostering collaboration and practical strategies to make healthcare more inclusive for diverse linguistic communities.

X-ALT-DESC;FMTTYPE=text/html:<!DOCTYPE HTML PUBLIC "-//W3C//DTD HTML 3.2//EN">\n<HTML>\n<HEAD>\n<META NAME="Generator" CONTENT="MS Exchange Server version 08.00.0681.000">\n<TITLE></TITLE>\n</HEAD>\n<BODY>\n<!-- Converted from text/rtf format -->\n\n<p>The International Conference for Science and Practice on <em>Global Perspectives on Multilingualism in (Mental) Healthcare</em>will take place on June 26–27, 2026, at the University Medical Center Hamburg-Eppendorf in Hamburg, Germany. 🌍🗣️</p><br /><p>The conference addresses the challenges patients face when language barriers hinder access to care and treatment quality, highlighting the gaps in standardized interpreting services and multilingual policies in healthcare systems worldwide. 🏥💬</p><br /><p>Bringing together researchers, clinicians, artists, and experts, the event explores innovative strategies to overcome language barriers through lectures, seven workshops, a best-practice pitch session, and a panel discussion. Participants will discuss the advantages and limitations of current approaches and develop sustainable solutions to strengthen global health equity. 🌐🤝</p><br /><p>This multidisciplinary gathering aims to connect research, clinical experience, and stakeholder expertise, fostering collaboration and practical strategies to make healthcare more inclusive for diverse linguistic communities.</p>\n\n</BODY>\n</HTML>

LOCATION:Universitätsklinikum Hamburg-Eppendorf, 52, Martinistraße, Hoheluft-Ost, Hamburg-Nord, Hamburg, 20251, Deutschland
END:VEVENT

END:VCALENDAR
